BEGIN:VCALENDAR
VERSION:2.0
PRODID:-//Tukios.com/
BEGIN:VEVENT
UID:f1c90a55-ec94-4930-aa9f-8ec147ce34cc@www.websterfuneralhomes.com
DTSTAMP:20260424T170449Z
DTSTART:20260506T170000Z
DTEND:20260506T180000Z
SUMMARY:Funeral Service
DESCRIPTION:
URL:https://www.websterfuneralhomes.com/obituaries/raymond-jacobs
LOCATION:Webster Funeral Home 3080 Homeward Way  Fairfield OH 45014
GEO:39.3277254;-84.5099201
END:VEVENT
END:VCALENDAR