BEGIN:VCALENDAR
VERSION:2.0
PRODID:-//Tukios.com/
BEGIN:VEVENT
UID:bf1d0ddf-747b-4837-8001-52ef0952dce8@www.websterfuneralhomes.com
DTSTAMP:20260422T014235Z
DTSTART:20260424T160000Z
DTEND:20260424T170000Z
SUMMARY:Funeral Service
DESCRIPTION:
URL:https://www.websterfuneralhomes.com/obituaries/mary-boyes
LOCATION: 3080 Homeward Way  Fairfield OH 45014
GEO:39.3277254;-84.5099201
END:VEVENT
END:VCALENDAR