BEGIN:VCALENDAR
VERSION:2.0
PRODID:-//Tukios.com/
BEGIN:VEVENT
UID:2974ab5a-ac71-4554-b12c-2c1234bd8225@www.websterfuneralhomes.com
DTSTAMP:20260422T014621Z
DTSTART:20260424T171500Z
DTEND:20260424T181500Z
SUMMARY:Burial
DESCRIPTION:
URL:https://www.websterfuneralhomes.com/obituaries/mary-boyes
LOCATION: 2124 Princeton Road  Hamilton OH 45011
GEO:39.3927863;-84.5321595
END:VEVENT
END:VCALENDAR