BEGIN:VCALENDAR
VERSION:2.0
PRODID:-//Tukios.com/
BEGIN:VEVENT
UID:8ce3f0bb-d890-4125-913b-b45db80c891d@www.websterfuneralhomes.com
DTSTAMP:20260422T013851Z
DTSTART:20260424T140000Z
DTEND:20260424T160000Z
SUMMARY:Visitation
DESCRIPTION:
URL:https://www.websterfuneralhomes.com/obituaries/mary-boyes
LOCATION:THE WEBSTER FUNERAL HOME 3080 Homeward Way  Fairfield OH 45014
GEO:39.3277254;-84.5099201
END:VEVENT
END:VCALENDAR